{"text_format":"1","workbook":"xlsx","n_sheets":2,"sheets":["Web Report","Courier Report"],"not_rendered":{"charts":0,"images":0,"macros":1,"external_links":0,"defined_names":0,"comments":0,"pivot_tables":0},"unopened":[],"bounds":{"document_bytes":16777216,"sheet_cells":100000,"rows_first":2000,"rows_last":500,"rows_between":2000,"halvings":0,"cell_chars":16384,"cell_head_chars":4096},"cells_cut":0,"cells_raw":0,"read":"whole","date_system":"1900"}

{"sheet":"Web Report","index":0,"n_rows":92,"n_cols":11,"rows_kept":92,"cut":false,"hidden":false,"merged":[[0,0,0,10],[1,0,1,10],[48,0,48,10],[59,0,59,10],[67,0,67,10],[90,0,90,10],[91,0,91,10],[3,0,3,10],[11,0,11,10],[21,0,21,10],[29,0,29,10],[39,0,39,10],[85,0,85,10],[83,0,83,10]]}
["MOC SUPREME HOSPITAL REPORT"]
["Date: 9/15/2017"]
["Grand","Goal","Reports","Visits","Cooties","Patients","Hours","Miles","Gifts","Total Monies","Percentage"]
["SUPREME HOSPITAL DISTRICT#1 - Gary Dressel"]
["DE",32000,6,40,58,263,245,4055,466,6558.45,{"$f":"IF(B5,J5/B5,\"\")","v":0.20495156249999999}]
["DC",0,null,null,null,null,null,null,null,null,{"$f":"IF(B6,J6/B6,\"\")","v":""}]
["MD",81000,17,91,194,854,854,8871,6774.19,27273.83,0.33671395061728399]
["PA",127250,3,37,67,433,294,4399,1165,8410.56,6.6094774066797632E-2]
["VA",88000,6,37,101,289,481,5043,1359,12911.57,0.14672238636363635]
["WV",12500,3,35,35,994,298,845,183.75,7021.95,0.56175600000000003]
["TOTALS",{"$f":"SUM(B5:B10)","v":340750},{"$f":"SUM(C5:C10)","v":35},240,455,2833,2172,23213,9947.9399999999987,62176.359999999993,0.18246914159941305]
[291]
["AL",11500,null,null,null,null,null,null,null,null,{"$f":"IF(B13,J13/B13,\"\")","v":0}]
["FL",168125,20,100,270,1977,1122,21457,3148.3,31453.38,{"$f":"IF(B14,J14/B14,\"\")","v":0.18708330111524163}]
["GA",1359,null,null,null,null,null,null,null,null,0]
["LA",27750,null,null,null,null,null,null,null,null,0]
["MS",54000,6,134,178,735,589,9581,6383.88,21007.17,0.38902166666666665]
["NC",72250,7,58,162,403,382,4496,476.5,9720.0400000000009,0.13453342560553636]
["SC",52250,15,107,306,985,1117,13870,1617.12,28747.27,0.55018698564593305]
["TN",51125,null,null,null,null,null,null,null,null,0]
["TOTALS",{"$f":"SUM(B13:B20)","v":438359},{"$f":"SUM(C13:C20)","v":48},399,916,4100,3210,49404,11625.8,90927.86,0.20742783882616758]
["SUPREME HOSPITAL DISTRICT#3 - Jeff Keen"]
["IL",68625,17,80,155,2766,615,7443,1865,16775.27,{"$f":"IF(B23,J23/B23,\"\")","v":0.24444837887067397}]
["IN",0,null,null,null,null,null,null,null,null,{"$f":"IF(B24,J24/B24,\"\")","v":""}]
["KY",48375,7,62,40,372,143,2021,301.56,3809.15,7.8742118863049104E-2]
["MI",62375,9,60,44,1254,705.5,2227,7494.09,23714.9,0.38019879759519043]
["OH",203000,352,441,1037,2463,2896.6,16328,2718,70322.25,0.34641502463054186]
["WI",95000,33,183,382,7957,1891,15875,10550,55414.55,0.58331105263157901]
["TOTALS",{"$f":"SUM(B23:B28)","v":477375},{"$f":"SUM(C23:C28)","v":418},826,1658,14812,6251.1,43894,22928.65,170036.12,0.35618982979837654]
["SUPREME HOSPITAL DISTRICT#4 -Neil Johnson"]
["IA",24500,20,196,289,6879,1829,11825,6862.76,49762.21,{"$f":"IF(B31,J31/B31,\"\")","v":2.0311106122448979}]
["KS",51625,null,null,null,null,null,null,null,null,{"$f":"IF(B32,J32/B32,\"\")","v":0}]
["MN",117000,5,16,66,559,289,5847,665,8003.53,6.840623931623932E-2]
["MO",81625,null,null,null,null,null,null,null,null,0]
["MT",30375,null,null,null,null,null,null,null,null,0]
["NE",29375,9,73,192,598,745,11471,2190.27,20595.96,0.70113906382978719]
["ND",42500,null,null,null,null,null,null,null,null,0]
["SD",24250,3,17,51,214,233,5881,537,6614.49,0.27276247422680411]
["TOTAL",{"$f":"SUM(B31:B38)","v":401250},{"$f":"SUM(C31:C38)","v":37},302,598,8250,3096,35024,10255.030000000001,84976.19,0.21177866666666667]
["SUPREME HOSPITAL DISTRICT#5 - Gordon Lam"]
["AR",37250,2,8,8,30,31,480,136,890.98,{"$f":"IF(B41,J41/B41,\"\")","v":2.3918926174496646E-2}]
["CO",48750,null,null,null,null,null,null,null,null,{"$f":"IF(B42,J42/B42,\"\")","v":0}]
["EURO",21000,null,null,null,null,null,null,null,null,0]
["NM",47125,5,22,37,428,227,5548,1615,7419.37,0.15744021220159152]
["OK",29625,null,null,null,null,null,null,null,null,0]
["TX",136375,15,100,193,828,609,8747,3008.67,17966.2,0.13174115490375801]
["WY",0,null,null,null,null,null,null,null,null,""]
["TOTAL",{"$f":"SUM(B41:B47)","v":320125},{"$f":"SUM(C41:C47)","v":22},130,238,1286,867,14775,4759.67,26276.550000000003,8.2082155408043742E-2]
["SUPREME HOSPITAL DISTRICT#6 - Vaughn Gates"]
["AK",11250,3,3,3,16,9,90,0,215.55,{"$f":"IF(B50,J50/B50,\"\")","v":1.916E-2}]
["AZ",95000,8,149,200,2197,847.5,7485,3115.84,23274.87,{"$f":"IF(B51,J51/B51,\"\")","v":0.24499863157894736}]
["CA",188750,214,361,594,4155,4422.75,45116.6,29487.5,135536.84,0.7180759735099338]
["HI",5250,null,null,null,null,null,null,null,null,0]
["ID",5750,null,null,null,null,null,null,null,null,0]
["NV",25500,9,24,23,1834,114,312,35,2649.38,0.10389725490196079]
["OR",81125,8,87,54,371,466,10782,795.46,12813.24,0.15794440677966101]
["PAC",129625,null,null,null,null,null,null,null,null,0]
["WA",64500,2,17,26,26,189,1152,46.25,4469.4799999999996,6.9294263565891467E-2]
["TOTAL",{"$f":"SUM(B50:B58)","v":606750},{"$f":"SUM(C50:C58)","v":244},641,900,8599,6048.25,64937.599999999999,33480.050000000003,178959.36000000002,0.29494744128553774]
["SUPREME HOSPITAL DISTRICT#7 - Kenneth Eith"]
["CT",0,null,null,null,null,null,null,null,null,{"$f":"IF(B61,J61/B61,\"\")","v":""}]
["ME",0,null,null,null,null,null,null,null,null,{"$f":"IF(B62,J62/B62,\"\")","v":""}]
["MA",21500,null,null,null,null,null,null,null,null,0]
["NH",23750,null,null,null,null,null,null,null,null,0]
["NJ",69000,null,null,null,null,null,null,null,null,0]
["NY",48250,null,null,null,null,null,null,null,null,0]
["TOTAL",{"$f":"SUM(B61:B66)","v":162500},{"$f":"SUM(C61:C66)","v":0},0,0,0,0,0,0,0,0]
["PUP TENTS NOT IN A GRAND (BLACK DIVISION)"]
["AK#2",6750,5,5,6,18,14,190,77.84,420.14,{"$f":"IF(B69,J69/B69,\"\")","v":6.2242962962962958E-2}]
["AK#3",4500,null,null,null,null,null,null,null,null,{"$f":"IF(B70,J70/B70,\"\")","v":0}]
["AL#13",11500,null,null,null,null,null,null,null,null,{"$f":"IF(B71,J71/B71,\"\")","v":0}]
["DC#1",6750,null,null,null,null,null,null,null,null,{"$f":"IF(B72,J72/B72,\"\")","v":0}]
["HI#1",5250,null,null,null,null,null,null,null,null,0]
["ID#3",5750,null,null,null,null,null,null,null,null,0]
["MA#14",10750,null,null,null,null,null,null,null,null,0]
["MA#34",4250,null,null,null,null,null,null,null,null,0]
["MA#52",6500,null,null,null,null,null,null,null,null,0]
["NV#2",15000,null,null,null,null,null,null,null,null,0]
["NV#3",5250,null,null,null,null,null,null,null,null,0]
["NV#5",5250,null,null,null,null,null,null,null,null,0]
["Supreme",3250,null,null,null,null,null,null,null,null,0]
["WV#6",12500,null,null,null,null,null,null,null,null,0]
["TOTAL",{"$f":"SUM(B69:B82)","v":103250},5,5,6,18,14,190,77.84,420.14,4.0691525423728813E-3]
["Supreme Total"]
[null,{"$f":"B11+B21+B29+B39+B48+B59+B67","v":2747109},{"$f":"C11+C21+C29+C39+C48+C59+C67+C81","v":804},2538,4765,39880,21644.35,231247.6,92997.14,613352.43999999994,{"$f":"IF(B85,J85/B85,\"\")","v":0.22327197064259188}]
["DIVISION STANDINGS"]
[null,null,"GOLD","(1000+)",null,null,"BLUE","(200-299)"]
[null,null,"SILVER","(600-999)",null,null,"GREEN","(126-199)"]
[null,null,"RED","(400-599)",null,null,"PURPLE","125 or less"]
[null,null,"WHITE","(300-399)",null,null,"BLACK"]
[]
["Telephone:  573-757-5046 Olin Parks, olinparks@sbcglobal.net"]

{"sheet":"Courier Report","index":1,"n_rows":90,"n_cols":6,"rows_kept":90,"cut":false,"hidden":false,"merged":[[88,0,88,5],[89,0,89,5],[39,0,39,5],[48,0,48,5],[59,0,59,5],[67,0,67,5],[81,0,81,5],[83,0,83,5],[0,0,0,5],[1,0,1,5],[3,0,3,5],[11,0,11,5],[21,0,21,5],[29,0,29,5]]}
["MOC SUPREME HOSPITAL REPORT"]
[{"$f":"'Web Report'!A2:K2","v":"Date: 9/15/2017"}]
["Grand","Goal","Reports","Cooties","Total Monies","Percentage"]
["SUPREME HOSPITAL DISTRICT#1 - Gary Dressel"]
["DE",{"$f":"'Web Report'!B5","v":32000},{"$f":"'Web Report'!C5","v":6},{"$f":"'Web Report'!E5","v":58},{"$f":"'Web Report'!J5","v":6558.45},{"$f":"IF(B5,E5/B5,\"\")","v":0.20495156249999999}]
["DC",{"$f":"'Web Report'!B6","v":0},{"$f":"'Web Report'!C6","v":0},{"$f":"'Web Report'!E6","v":0},{"$f":"'Web Report'!J6","v":0},""]
["MD",{"$f":"'Web Report'!B7","v":81000},{"$f":"'Web Report'!C7","v":17},{"$f":"'Web Report'!E7","v":194},{"$f":"'Web Report'!J7","v":27273.83},0.33671395061728399]
["PA",{"$f":"'Web Report'!B8","v":127250},{"$f":"'Web Report'!C8","v":3},{"$f":"'Web Report'!E8","v":67},{"$f":"'Web Report'!J8","v":8410.56},6.6094774066797632E-2]
["VA",{"$f":"'Web Report'!B9","v":88000},{"$f":"'Web Report'!C9","v":6},{"$f":"'Web Report'!E9","v":101},{"$f":"'Web Report'!J9","v":12911.57},0.14672238636363635]
["WV",{"$f":"'Web Report'!B10","v":12500},{"$f":"'Web Report'!C10","v":3},{"$f":"'Web Report'!E10","v":35},{"$f":"'Web Report'!J10","v":7021.95},0.56175600000000003]
["TOTALS",{"$f":"SUM(B5:B10)","v":340750},{"$f":"SUM(C5:C10)","v":35},{"$f":"SUM(D5:D10)","v":455},{"$f":"SUM(E5:E10)","v":62176.359999999993},0.18246914159941305]
["SUPREME HOSPITAL DISTRICT#2 - Louis C. McVey"]
["AL",{"$f":"'Web Report'!B13","v":11500},{"$f":"'Web Report'!C13","v":0},{"$f":"'Web Report'!E13","v":0},{"$f":"'Web Report'!J13","v":0},{"$f":"IF(B13,E13/B13,\"\")","v":0}]
["FL",{"$f":"'Web Report'!B14","v":168125},{"$f":"'Web Report'!C14","v":20},{"$f":"'Web Report'!E14","v":270},{"$f":"'Web Report'!J14","v":31453.38},0.18708330111524163]
["GA",{"$f":"'Web Report'!B15","v":1359},{"$f":"'Web Report'!C15","v":0},{"$f":"'Web Report'!E15","v":0},{"$f":"'Web Report'!J15","v":0},0]
["LA",{"$f":"'Web Report'!B16","v":27750},{"$f":"'Web Report'!C16","v":0},{"$f":"'Web Report'!E16","v":0},{"$f":"'Web Report'!J16","v":0},0]
["MS",{"$f":"'Web Report'!B17","v":54000},{"$f":"'Web Report'!C17","v":6},{"$f":"'Web Report'!E17","v":178},{"$f":"'Web Report'!J17","v":21007.17},0.38902166666666665]
["NC",{"$f":"'Web Report'!B18","v":72250},{"$f":"'Web Report'!C18","v":7},{"$f":"'Web Report'!E18","v":162},{"$f":"'Web Report'!J18","v":9720.0400000000009},0.13453342560553636]
["SC",{"$f":"'Web Report'!B19","v":52250},{"$f":"'Web Report'!C19","v":15},{"$f":"'Web Report'!E19","v":306},{"$f":"'Web Report'!J19","v":28747.27},0.55018698564593305]
["TN",{"$f":"'Web Report'!B20","v":51125},{"$f":"'Web Report'!C20","v":0},{"$f":"'Web Report'!E20","v":0},{"$f":"'Web Report'!J20","v":0},0]
["TOTALS",{"$f":"SUM(B13:B20)","v":438359},{"$f":"SUM(C13:C20)","v":48},{"$f":"SUM(D13:D20)","v":916},{"$f":"SUM(E13:E20)","v":90927.86},0.20742783882616758]
["SUPREME HOSPITAL DISTRICT#3 - Jeff Keen"]
["IL",{"$f":"'Web Report'!B23","v":68625},{"$f":"'Web Report'!C23","v":17},{"$f":"'Web Report'!E23","v":155},{"$f":"'Web Report'!J23","v":16775.27},{"$f":"IF(B23,E23/B23,\"\")","v":0.24444837887067397}]
["IN",{"$f":"'Web Report'!B24","v":0},{"$f":"'Web Report'!C24","v":0},{"$f":"'Web Report'!E24","v":0},{"$f":"'Web Report'!J24","v":0},""]
["KY",{"$f":"'Web Report'!B25","v":48375},{"$f":"'Web Report'!C25","v":7},{"$f":"'Web Report'!E25","v":40},{"$f":"'Web Report'!J25","v":3809.15},7.8742118863049104E-2]
["MI",{"$f":"'Web Report'!B26","v":62375},{"$f":"'Web Report'!C26","v":9},{"$f":"'Web Report'!E26","v":44},{"$f":"'Web Report'!J26","v":23714.9},0.38019879759519043]
["OH",{"$f":"'Web Report'!B27","v":203000},{"$f":"'Web Report'!C27","v":352},{"$f":"'Web Report'!E27","v":1037},{"$f":"'Web Report'!J27","v":70322.25},0.34641502463054186]
["WI",{"$f":"'Web Report'!B28","v":95000},{"$f":"'Web Report'!C28","v":33},{"$f":"'Web Report'!E28","v":382},{"$f":"'Web Report'!J28","v":55414.55},0.58331105263157901]
["TOTALS",{"$f":"SUM(B23:B28)","v":477375},{"$f":"SUM(C23:C28)","v":418},{"$f":"SUM(D23:D28)","v":1658},{"$f":"SUM(E23:E28)","v":170036.12},0.35618982979837654]
["SUPREME HOSPITAL DISTRICT#4 - Neil Johnson"]
["IA",{"$f":"'Web Report'!B31","v":24500},{"$f":"'Web Report'!C31","v":20},{"$f":"'Web Report'!E31","v":289},{"$f":"'Web Report'!J31","v":49762.21},{"$f":"IF(B31,E31/B31,\"\")","v":2.0311106122448979}]
["KS",{"$f":"'Web Report'!B32","v":51625},{"$f":"'Web Report'!C32","v":0},{"$f":"'Web Report'!E32","v":0},{"$f":"'Web Report'!J32","v":0},0]
["MN",{"$f":"'Web Report'!B33","v":117000},{"$f":"'Web Report'!C33","v":5},{"$f":"'Web Report'!E33","v":66},{"$f":"'Web Report'!J33","v":8003.53},6.840623931623932E-2]
["MO",{"$f":"'Web Report'!B34","v":81625},{"$f":"'Web Report'!C34","v":0},{"$f":"'Web Report'!E34","v":0},{"$f":"'Web Report'!J34","v":0},0]
["MT",{"$f":"'Web Report'!B35","v":30375},{"$f":"'Web Report'!C35","v":0},{"$f":"'Web Report'!E35","v":0},{"$f":"'Web Report'!J35","v":0},0]
["NE",{"$f":"'Web Report'!B36","v":29375},{"$f":"'Web Report'!C36","v":9},{"$f":"'Web Report'!E36","v":192},{"$f":"'Web Report'!J36","v":20595.96},0.70113906382978719]
["ND",{"$f":"'Web Report'!B37","v":42500},{"$f":"'Web Report'!C37","v":0},{"$f":"'Web Report'!E37","v":0},{"$f":"'Web Report'!J37","v":0},0]
["SD",{"$f":"'Web Report'!B38","v":24250},{"$f":"'Web Report'!C38","v":3},{"$f":"'Web Report'!E38","v":51},{"$f":"'Web Report'!J38","v":6614.49},0.27276247422680411]
["TOTAL",{"$f":"SUM(B31:B38)","v":401250},{"$f":"SUM(C31:C38)","v":37},{"$f":"SUM(D31:D38)","v":598},{"$f":"SUM(E31:E38)","v":84976.19},0.21177866666666667]
["SUPREME HOSPITAL DISTRICT#5 - Gordon Lam"]
["AR",{"$f":"'Web Report'!B41","v":37250},{"$f":"'Web Report'!C41","v":2},{"$f":"'Web Report'!E41","v":8},{"$f":"'Web Report'!J41","v":890.98},{"$f":"IF(B41,E41/B41,\"\")","v":2.3918926174496646E-2}]
["CO",{"$f":"'Web Report'!B42","v":48750},{"$f":"'Web Report'!C42","v":0},{"$f":"'Web Report'!E42","v":0},{"$f":"'Web Report'!J42","v":0},0]
["EURO",{"$f":"'Web Report'!B43","v":21000},{"$f":"'Web Report'!C43","v":0},{"$f":"'Web Report'!E43","v":0},{"$f":"'Web Report'!J43","v":0},0]
["NM",{"$f":"'Web Report'!B44","v":47125},{"$f":"'Web Report'!C44","v":5},{"$f":"'Web Report'!E44","v":37},{"$f":"'Web Report'!J44","v":7419.37},0.15744021220159152]
["OK",{"$f":"'Web Report'!B45","v":29625},{"$f":"'Web Report'!C45","v":0},{"$f":"'Web Report'!E45","v":0},{"$f":"'Web Report'!J45","v":0},0]
["TX",{"$f":"'Web Report'!B46","v":136375},{"$f":"'Web Report'!C46","v":15},{"$f":"'Web Report'!E46","v":193},{"$f":"'Web Report'!J46","v":17966.2},0.13174115490375801]
["WY",{"$f":"'Web Report'!B47","v":0},{"$f":"'Web Report'!C47","v":0},{"$f":"'Web Report'!E47","v":0},{"$f":"'Web Report'!J47","v":0},""]
["TOTAL",{"$f":"SUM(B41:B47)","v":320125},{"$f":"SUM(C41:C47)","v":22},{"$f":"SUM(D41:D47)","v":238},{"$f":"SUM(E41:E47)","v":26276.550000000003},8.2082155408043742E-2]
["SUPREME HOSPITAL DISTRICT#6 - Vaughn Gates"]
["AK",{"$f":"'Web Report'!B50","v":11250},{"$f":"'Web Report'!C50","v":3},{"$f":"'Web Report'!E50","v":3},{"$f":"'Web Report'!J50","v":215.55},{"$f":"IF(B50,E50/B50,\"\")","v":1.916E-2}]
["AZ",{"$f":"'Web Report'!B51","v":95000},{"$f":"'Web Report'!C51","v":8},{"$f":"'Web Report'!E51","v":200},{"$f":"'Web Report'!J51","v":23274.87},0.24499863157894736]
["CA",{"$f":"'Web Report'!B52","v":188750},{"$f":"'Web Report'!C52","v":214},{"$f":"'Web Report'!E52","v":594},{"$f":"'Web Report'!J52","v":135536.84},0.7180759735099338]
["HI",{"$f":"'Web Report'!B53","v":5250},{"$f":"'Web Report'!C53","v":0},{"$f":"'Web Report'!E53","v":0},{"$f":"'Web Report'!J53","v":0},0]
["ID",{"$f":"'Web Report'!B54","v":5750},{"$f":"'Web Report'!C54","v":0},{"$f":"'Web Report'!E54","v":0},{"$f":"'Web Report'!J54","v":0},0]
["NV",{"$f":"'Web Report'!B55","v":25500},{"$f":"'Web Report'!C55","v":9},{"$f":"'Web Report'!E55","v":23},{"$f":"'Web Report'!J55","v":2649.38},0.10389725490196079]
["OR",{"$f":"'Web Report'!B56","v":81125},{"$f":"'Web Report'!C56","v":8},{"$f":"'Web Report'!E56","v":54},{"$f":"'Web Report'!J56","v":12813.24},0.15794440677966101]
["PAC",{"$f":"'Web Report'!B57","v":129625},{"$f":"'Web Report'!C57","v":0},{"$f":"'Web Report'!E57","v":0},{"$f":"'Web Report'!J57","v":0},0]
["WA",{"$f":"'Web Report'!B58","v":64500},{"$f":"'Web Report'!C58","v":2},{"$f":"'Web Report'!E58","v":26},{"$f":"'Web Report'!J58","v":4469.4799999999996},6.9294263565891467E-2]
["TOTAL",{"$f":"SUM(B50:B58)","v":606750},{"$f":"SUM(C50:C58)","v":244},{"$f":"SUM(D50:D58)","v":900},{"$f":"SUM(E50:E58)","v":178959.36000000002},0.29494744128553774]
["SUPREME HOSPITAL DISTRICT#7 - Kenneth Eith"]
["CT",{"$f":"'Web Report'!B61","v":0},{"$f":"'Web Report'!C61","v":0},{"$f":"'Web Report'!E61","v":0},{"$f":"'Web Report'!J61","v":0},{"$f":"IF(B61,E61/B61,\"\")","v":""}]
["ME",{"$f":"'Web Report'!B62","v":0},{"$f":"'Web Report'!C62","v":0},{"$f":"'Web Report'!E62","v":0},{"$f":"'Web Report'!J62","v":0},""]
["MA",{"$f":"'Web Report'!B63","v":21500},{"$f":"'Web Report'!C63","v":0},{"$f":"'Web Report'!E63","v":0},{"$f":"'Web Report'!J63","v":0},0]
["NH",{"$f":"'Web Report'!B64","v":23750},{"$f":"'Web Report'!C64","v":0},{"$f":"'Web Report'!E64","v":0},{"$f":"'Web Report'!J64","v":0},0]
["NJ",{"$f":"'Web Report'!B65","v":69000},{"$f":"'Web Report'!C65","v":0},{"$f":"'Web Report'!E65","v":0},{"$f":"'Web Report'!J65","v":0},0]
["NY",{"$f":"'Web Report'!B66","v":48250},{"$f":"'Web Report'!C66","v":0},{"$f":"'Web Report'!E66","v":0},{"$f":"'Web Report'!J66","v":0},0]
["TOTAL",{"$f":"SUM(B61:B66)","v":162500},{"$f":"SUM(C61:C66)","v":0},{"$f":"SUM(D61:D66)","v":0},{"$f":"SUM(E61:E66)","v":0},0]
["PUP TENTS NOT IN A GRAND (BLACK DIVISION)"]
["AK#2",{"$f":"'Web Report'!B69","v":6750},{"$f":"'Web Report'!C69","v":5},{"$f":"'Web Report'!E69","v":6},{"$f":"'Web Report'!J69","v":420.14},{"$f":"IF(B69,E69/B69,\"\")","v":6.2242962962962958E-2}]
["AK#3",{"$f":"'Web Report'!B70","v":4500},{"$f":"'Web Report'!C70","v":0},{"$f":"'Web Report'!E70","v":0},{"$f":"'Web Report'!J70","v":0},0]
["AL#13",{"$f":"'Web Report'!B71","v":11500},{"$f":"'Web Report'!C71","v":0},{"$f":"'Web Report'!E71","v":0},{"$f":"'Web Report'!J71","v":0},0]
["DC#1",{"$f":"'Web Report'!B72","v":6750},{"$f":"'Web Report'!C72","v":0},{"$f":"'Web Report'!E72","v":0},{"$f":"'Web Report'!J72","v":0},0]
[]
["HI#1",{"$f":"'Web Report'!B73","v":5250},{"$f":"'Web Report'!C73","v":0},{"$f":"'Web Report'!E73","v":0},{"$f":"'Web Report'!J73","v":0},0]
["ID#3",{"$f":"'Web Report'!B74","v":5750},{"$f":"'Web Report'!C74","v":0},{"$f":"'Web Report'!E74","v":0},{"$f":"'Web Report'!J74","v":0},0]
["MA#14",{"$f":"'Web Report'!B75","v":10750},{"$f":"'Web Report'!C75","v":0},{"$f":"'Web Report'!E75","v":0},{"$f":"'Web Report'!J75","v":0},0]
["MA#34",{"$f":"'Web Report'!B76","v":4250},{"$f":"'Web Report'!C76","v":0},{"$f":"'Web Report'!E76","v":0},{"$f":"'Web Report'!J76","v":0},0]
["MA#52",{"$f":"'Web Report'!B77","v":6500},{"$f":"'Web Report'!C77","v":0},{"$f":"'Web Report'!E77","v":0},{"$f":"'Web Report'!J77","v":0},0]
["Supreme",{"$f":"'Web Report'!B81","v":3250},{"$f":"'Web Report'!C81","v":0},{"$f":"'Web Report'!E81","v":0},{"$f":"'Web Report'!J81","v":0},0]
["WV#6",{"$f":"'Web Report'!B82","v":12500},{"$f":"'Web Report'!C82","v":0},{"$f":"'Web Report'!E82","v":0},{"$f":"'Web Report'!J82","v":0},0]
["TOTAL",{"$f":"SUM(B69:B80)","v":77750},{"$f":"SUM(C69:C80)","v":5},{"$f":"SUM(D69:D80)","v":6},{"$f":"SUM(E69:E80)","v":420.14},5.4037299035369774E-3]
["Supreme Total"]
[null,{"$f":"B11+B21+B29+B39+B48+B59+B67","v":2747109},{"$f":"C11+C21+C29+C39+C48+C59+C67+C79","v":804},{"$f":"D11+D21+D29+D39+D48+D59+D67+D79","v":4765},{"$f":"E11+E21+E29+E39+E48+E59+E67+E79","v":613352.43999999994},{"$f":"IF(B83,E83/B83,\"\")","v":0.22327197064259188}]
["DIVISION STANDINGS"]
["GOLD",{"$f":"'Web Report'!E87","v":0},{"$f":"'Web Report'!F87","v":0},"BLUE",{"$f":"'Web Report'!I87","v":0},{"$f":"'Web Report'!J87","v":0}]
["SILVER",{"$f":"'Web Report'!E88","v":0},{"$f":"'Web Report'!F88","v":0},"GREEN",{"$f":"'Web Report'!I88","v":0},{"$f":"'Web Report'!J88","v":0}]
["RED",{"$f":"'Web Report'!E89","v":0},{"$f":"'Web Report'!F89","v":0},"PURPLE",{"$f":"'Web Report'!I89","v":0},{"$f":"'Web Report'!J89","v":0}]
["WHITE",{"$f":"'Web Report'!E90","v":0},{"$f":"'Web Report'!F90","v":0},"BLACK",{"$f":"'Web Report'!I90","v":0},{"$f":"'Web Report'!J90","v":0}]
[]
["Telephone: 573-757-5046, Olin Parks"]